BEGIN:VCALENDAR
VERSION:2.0
PRODID:-//Transform MN - ECPv6.15.20//NONSGML v1.0//EN
CALSCALE:GREGORIAN
METHOD:PUBLISH
X-WR-CALNAME:Transform MN
X-ORIGINAL-URL:https://transformmn.org
X-WR-CALDESC:Events for Transform MN
REFRESH-INTERVAL;VALUE=DURATION:PT1H
X-Robots-Tag:noindex
X-PUBLISHED-TTL:PT1H
BEGIN:VTIMEZONE
TZID:America/Chicago
BEGIN:DAYLIGHT
TZOFFSETFROM:-0600
TZOFFSETTO:-0500
TZNAME:CDT
DTSTART:20250309T080000
END:DAYLIGHT
BEGIN:STANDARD
TZOFFSETFROM:-0500
TZOFFSETTO:-0600
TZNAME:CST
DTSTART:20251102T070000
END:STANDARD
BEGIN:DAYLIGHT
TZOFFSETFROM:-0600
TZOFFSETTO:-0500
TZNAME:CDT
DTSTART:20260308T080000
END:DAYLIGHT
BEGIN:STANDARD
TZOFFSETFROM:-0500
TZOFFSETTO:-0600
TZNAME:CST
DTSTART:20261101T070000
END:STANDARD
BEGIN:DAYLIGHT
TZOFFSETFROM:-0600
TZOFFSETTO:-0500
TZNAME:CDT
DTSTART:20270314T080000
END:DAYLIGHT
BEGIN:STANDARD
TZOFFSETFROM:-0500
TZOFFSETTO:-0600
TZNAME:CST
DTSTART:20271107T070000
END:STANDARD
END:VTIMEZONE
BEGIN:VEVENT
DTSTART;TZID=America/Chicago:20260428T190000
DTEND;TZID=America/Chicago:20260428T201500
DTSTAMP:20260422T063159
CREATED:20260401T195914Z
LAST-MODIFIED:20260408T202837Z
UID:7785-1777402800-1777407300@transformmn.org
SUMMARY:Helping Immigrants Heal: Children & Youth
DESCRIPTION:[vc_row ct_row_stretch=””][vc_column][vc_column_text]\nHelping Immigrants Heal: Children & Youth\nWebinar on Zoom | April 28 | 7 PM (CT) | Transform Minnesota and Trauma Healing Institute \nThis conversation builds on the holistic trauma focus of our March seminar\, Helping Immigrants Heal\, and will center specifically on children and youth. We’ll be sharing practical resources and biblical wisdom designed to support parents\, caregivers\, pastors\, ministers\, youth leaders\, and young people alike. \nPlease feel free to extend this invitation to anyone you believe could benefit. \nEnglish and Spanish options will be available—registration includes an opportunity to indicate your language preference. \nREGISTER HERE![/vc_column_text][/vc_column][/vc_row][vc_row ct_row_stretch=””][vc_column][vc_empty_space height=”75px”][/vc_column][/vc_row][vc_row ct_row_stretch=””][vc_column]\n					\n					   \n					    \n					  		FAQ\n						   	\n						   	\n						   \n						\n					   \n\n					\n					\n					\n					   \n					    \n					  		Sign-Up\n						   	\n						   	\n						   \n						\n					   \n\n					\n					\n			\n				[vc_empty_space height=”25px”][vc_column_text]\nFAQ\n\n\nWhen and where?\nApril 28 | 7 PM (CT) \nONLINE | Zoom \nLink and anymore information will be sent out to your registration email the week of the event! \n  \n  \n\n\n[/vc_column_text]\n			\n			\n				[vc_empty_space height=”25px”][vc_btn title=”Sign-Up” color=”success” link=”url:https%3A%2F%2Fforms.gle%2F5VJXLt5pmxGu4hy36|title:Sign-Up”]\n			\n   \n     \n        	\n        		\n        			\n					   FAQ\n					\n					   \n					   \n					   \n					\n            		\n			            \n			               [vc_empty_space height=”25px”][vc_column_text]\nFAQ\n\n\nWhen and where?\nApril 28 | 7 PM (CT) \nONLINE | Zoom \nLink and anymore information will be sent out to your registration email the week of the event! \n  \n  \n\n\n[/vc_column_text]\n			            \n        	\n        	\n        		\n        			\n					   Sign-Up\n					\n					   \n					   \n					   \n					\n            		\n			            \n			               [vc_empty_space height=”25px”][vc_btn title=”Sign-Up” color=”success” link=”url:https%3A%2F%2Fforms.gle%2F5VJXLt5pmxGu4hy36|title:Sign-Up”]\n			            \n        	\n    	\n    \n\n\n[/vc_column][/vc_row]
URL:https://transformmn.org/event/helping_children_youth/
CATEGORIES:Church Impact
ATTACH;FMTTYPE=image/jpeg:https://transformmn.org/wp-content/uploads/2026/04/Helping-Immigrants-Heal-YOUTH.jpg
LOCATION:
END:VEVENT
BEGIN:VEVENT
DTSTART;TZID=America/Chicago:20260529T090000
DTEND;TZID=America/Chicago:20260530T170000
DTSTAMP:20260422T063159
CREATED:20260402T174230Z
LAST-MODIFIED:20260407T170634Z
UID:7780-1780045200-1780160400@transformmn.org
SUMMARY:Trauma Healing Group
DESCRIPTION:[vc_row ct_row_stretch=””][vc_column][vc_column_text]\nTRAUMA HEALING GROUP – In Person \n2-day Intensive | May 29 & 30 \nFriday | 9 AM – 5 PM  \nSaturday | 9 AM – 5 PM \nHealing Groups are safe\, multi-session small groups led by certified facilitators. In these groups\, people with heart wounds can come together to find healing\, engage with scripture\, learn to feel safe\, and know they are valued. This small-group experience is also helpful for those who walk closely with others who must cope with trauma and losses\, both big and small.  \nAdult healing groups are meant for those ages 18 and older and are not intended to be a replacement for professional mental health care.  \nIn this group\, you’ll learn:  \n\nWhat the Bible says about suffering \nExplore any trauma or loss you may be carrying \nHelp you get unstuck\, reconnected\, and ready to move on in life \nand more! \n\nAfter participating\, an individual may determine with their trainer if they are ready to lead others through a healing group.  \n“Participating in the healing group was such an important experience for me…It gave me a chance to be with God and others\, to look closely at places of pain in my own life\, and to bring that pain to God in a safe environment.” Anonymous  \nYou will receive all the materials you will need when you arrive. Beverages\, snacks + meals are provided. If you are able to donate at registration\, it will help cover the cost of materials and meals! \nAll questions may be emailed to Brie Brown: brie@transformmn.org[/vc_column_text][/vc_column][/vc_row][vc_row ct_row_stretch=””][vc_column][vc_empty_space height=”75px”]\n					\n					   \n					    \n					  		Registration\n						   	\n						   	\n						   \n						\n					   \n\n					\n					\n					\n					   \n					    \n					  		Location\n						   	\n						   	\n						   \n						\n					   \n\n					\n					\n			\n				[vc_column_text]\nYou will receive all other necessary information via email a few days before the healing group takes place\, and you will receive your materials upon arrival. \n[/vc_column_text][vc_column_text][/vc_column_text][vc_btn title=”CLICK TO REGISTER HERE” style=”classic” shape=”round” color=”green” size=”lg” align=”center” button_block=”true” link=”url:https%3A%2F%2Fwww.eventbrite.com%2Fe%2F1986224308374%3Faff%3Doddtdtcreator|target:_blank”]\n			\n			\n				[vc_column_text]\nLOCATION: \nTransform Minnesota \n1515 East 66th Street\nRichfield\, MN 55423 \nThere are parking lots in front and in back of the building and street parking as well! You will enter at the main front entrance.[/vc_column_text]\n			\n   \n     \n        	\n        		\n        			\n					   Registration\n					\n					   \n					   \n					   \n					\n            		\n			            \n			               [vc_column_text]\nYou will receive all other necessary information via email a few days before the healing group takes place\, and you will receive your materials upon arrival. \n[/vc_column_text][vc_column_text][/vc_column_text][vc_btn title=”CLICK TO REGISTER HERE” style=”classic” shape=”round” color=”green” size=”lg” align=”center” button_block=”true” link=”url:https%3A%2F%2Fwww.eventbrite.com%2Fe%2F1986224308374%3Faff%3Doddtdtcreator|target:_blank”]\n			            \n        	\n        	\n        		\n        			\n					   Location\n					\n					   \n					   \n					   \n					\n            		\n			            \n			               [vc_column_text]\nLOCATION: \nTransform Minnesota \n1515 East 66th Street\nRichfield\, MN 55423 \nThere are parking lots in front and in back of the building and street parking as well! You will enter at the main front entrance.[/vc_column_text]\n			            \n        	\n    	\n    \n\n\n[/vc_column][/vc_row][vc_row ct_row_stretch=””][vc_column][vc_empty_space][/vc_column][/vc_row]
URL:https://transformmn.org/event/trauma_healing_group_2026/
LOCATION:Transform Minnesota\, 1515 E 66th Street\, Richfield\, MN\, 55423\, United States
CATEGORIES:Trauma Healing
ATTACH;FMTTYPE=image/png:https://transformmn.org/wp-content/uploads/2026/03/Trauma-Healing-Healing-Group.png
END:VEVENT
BEGIN:VEVENT
DTSTART;TZID=America/Chicago:20260603T090000
DTEND;TZID=America/Chicago:20260603T130000
DTSTAMP:20260422T063159
CREATED:20260420T165132Z
LAST-MODIFIED:20260421T192542Z
UID:7803-1780477200-1780491600@transformmn.org
SUMMARY:Waiting for New Wineskins
DESCRIPTION:[vc_row ct_row_stretch=””][vc_column][vc_column_text]\nSession 1 | June 3 |  9:00 am – 1:00 pm\nCost: $25 \nLocation: Calvary Lutheran Church\, Golden Valley \n(Save the date: Aug 19 | Session 2 | Location TBA) \n  \nAmerican Christianity is at pivotal moment. The broader evangelical movement is fractured and disoriented\, and while many churches are navigating these pressures faithfully\, the demands on leaders are immense and the challenge of forming and discipling congregations has never been greater. \nAt the root of this crisis is an ecclesial identity that has been shaped more by the nation-state and the market than by Scripture. For centuries\, the Protestant church has resisted the biblical call to live as exiles in the world — and that resistance has deformed both how we understand the church and how we understand the pastor’s calling. \nPartnering with Dr. Joel Lawrence and the Center for Pastor Theologians\, we invite you to this collaborative learning series — aimed at orienting us theologically to the moment we are in and beginning to imagine a new way of being the church. \nOur first gathering on June 3 will take up the question at the heart of this crisis: Who are we\, and how did we get here? Drawing on Scripture and the tradition\, Dr. Lawrence will lead us through an examination of the church’s ecclesial identity as the Body of Christ — exploring the historical forces that have deformed that identity\, and what it might look like to recover it. Teaching will be followed by structured conversation\, giving pastors space to reflect together on what this means for their own congregations and calling. \n  \n  \n  \n*The cost of this event includes coffee\, snacks\, water\, and lunch\, all of which will be provided. If you are able to contribute $25\, we ask that you do so during registration. Scholarship options are also available for those who are unable to pay\, and you will see that option on the registration page. We do not want cost to be a barrier to attending this event. Thank you—we truly value and appreciate your integrity.[/vc_column_text][/vc_column][/vc_row][vc_row ct_row_stretch=””][vc_column][vc_empty_space height=”50px”][/vc_column][/vc_row][vc_row ct_row_stretch=””][vc_column][vc_tta_tabs style=”modern” shape=”square” color=”black” active_section=”1″][vc_tta_section title=”Registration” tab_id=”1562163641168-5bc3330e-434f”][vc_column_text]\nREGISTRATION \n\n[/vc_column_text][vc_btn title=”Click Here to Register for June 3″ color=”green” align=”center” button_block=”true” link=”url:https%3A%2F%2Fwaiting_for_new_wineskins.eventbrite.com|target:_blank”][vc_column_text][/vc_column_text][/vc_tta_section][vc_tta_section title=”Speakers” tab_id=”1562163491765-eb018353-b2e8″][vc_column_text]\nSPEAKERS\n \nJoel Lawrence | Dr. Joel Lawrence (PhD\, Cambridge) serves as the president of the Center for Pastor Theologians. Prior to this\, Joel served as a seminary professor and local church pastor. He writes and speaks on Dietrich Bonhoeffer\, ecclesiology\, and political theology. \n[/vc_column_text][/vc_tta_section][vc_tta_section title=”FAQ” tab_id=”1627919937344-09b1ebee-30c9″][vc_column_text]\n\nI registered for the event\, and now I am unable to attend\, can I get a refund?  Can I give my ticket to a co-worker or friend? \n\nFor cancellation requests at least seven (7) calendar days before the registered event\, you will receive a FULL refund. NO REFUNDS are available on cancellations less than seven (7) days prior to the event.  If you would like your registration transferred to someone else\, please contact Brie Brown – brie@transformmn.org. \n\n\n\n\n\n\nWhat should I bring? \n\nWe encourage you to bring a notebook\, pen\, and a colleague. \n\nDo I have to register now or can I do it at the door? \n\n\nYou must register in advance. \n\nWill Lunch be provided? \nCoffee\, water\, snacks + lunch will be provided! \n\n\n\n\n\n\n  \n\n\n\n\n\n\n\n\n[/vc_column_text][/vc_tta_section][/vc_tta_tabs][vc_empty_space height=”16px”][vc_column_text][/vc_column_text][vc_empty_space][/vc_column][/vc_row]
URL:https://transformmn.org/event/waiting_for_new_wineskins/
LOCATION:Calvary Lutheran Church\, 7520 Golden Valley Rd\, Golden Valley\, MN\, 55427\, United States
CATEGORIES:Church Impact
ATTACH;FMTTYPE=image/jpeg:https://transformmn.org/wp-content/uploads/2026/04/TM-WNW-1920x1080_Red.jpg
END:VEVENT
END:VCALENDAR