BEGIN:VCALENDAR
VERSION:2.0
PRODID:-//Transform MN - ECPv6.15.20//NONSGML v1.0//EN
CALSCALE:GREGORIAN
METHOD:PUBLISH
X-WR-CALNAME:Transform MN
X-ORIGINAL-URL:https://transformmn.org
X-WR-CALDESC:Events for Transform MN
REFRESH-INTERVAL;VALUE=DURATION:PT1H
X-Robots-Tag:noindex
X-PUBLISHED-TTL:PT1H
BEGIN:VTIMEZONE
TZID:America/Chicago
BEGIN:DAYLIGHT
TZOFFSETFROM:-0600
TZOFFSETTO:-0500
TZNAME:CDT
DTSTART:20230312T080000
END:DAYLIGHT
BEGIN:STANDARD
TZOFFSETFROM:-0500
TZOFFSETTO:-0600
TZNAME:CST
DTSTART:20231105T070000
END:STANDARD
BEGIN:DAYLIGHT
TZOFFSETFROM:-0600
TZOFFSETTO:-0500
TZNAME:CDT
DTSTART:20240310T080000
END:DAYLIGHT
BEGIN:STANDARD
TZOFFSETFROM:-0500
TZOFFSETTO:-0600
TZNAME:CST
DTSTART:20241103T070000
END:STANDARD
BEGIN:DAYLIGHT
TZOFFSETFROM:-0600
TZOFFSETTO:-0500
TZNAME:CDT
DTSTART:20250309T080000
END:DAYLIGHT
BEGIN:STANDARD
TZOFFSETFROM:-0500
TZOFFSETTO:-0600
TZNAME:CST
DTSTART:20251102T070000
END:STANDARD
END:VTIMEZONE
BEGIN:VEVENT
DTSTART;TZID=America/Chicago:20241112T180000
DTEND;TZID=America/Chicago:20241112T200000
DTSTAMP:20260423T045654
CREATED:20241014T143706Z
LAST-MODIFIED:20241014T143948Z
UID:7205-1731434400-1731441600@transformmn.org
SUMMARY:Multicultural Worship Night
DESCRIPTION:[vc_row ct_row_stretch=””][vc_column][vc_column_text]\nMulticultural Worship Night\nNovember 12\, 2024 | 6:00 pm\nLocation: Westwood Community Church – Bush Lake Campus\nCost: Free \nJoin Arrive Ministries in thanking God for His faithfulness in the lives of our refugee and immigrant neighbors and the Church over the past year! \nLed by immigrant church communities. Worship will be expressed in multiple languages representing various cultures around the world. \nCome ready to worship Jesus together through diverse and unique expressions of worship! \nThis is a free event. Click here to let Arrive know you’re coming![/vc_column_text][/vc_column][/vc_row][vc_row ct_row_stretch=””][vc_column][vc_empty_space height=”75px”][/vc_column][/vc_row][vc_row ct_row_stretch=””][vc_column]\n					\n					   \n					    \n					  		REGISTER\n						   	\n						   	\n						   \n						\n					   \n\n					\n					\n			\n				[vc_column_text]This event is free to attend. Let Arrive know you’re coming at the link below![/vc_column_text][vc_btn title=”Learn more” color=”success” link=”url:https%3A%2F%2Farriveministries.org%2Fevent%2Fworshipnight%2F”]\n			\n   \n     \n        	\n        		\n        			\n					   REGISTER\n					\n					   \n					   \n					   \n					\n            		\n			            \n			               [vc_column_text]This event is free to attend. Let Arrive know you’re coming at the link below![/vc_column_text][vc_btn title=”Learn more” color=”success” link=”url:https%3A%2F%2Farriveministries.org%2Fevent%2Fworshipnight%2F”]\n			            \n        	\n    	\n    \n\n\n[/vc_column][/vc_row]
URL:https://transformmn.org/event/multicultural-worship-night/
LOCATION:Westwood Community Church – Bush Lake Campus\, 6301 Cecilia Cir\, Minneapolis\, MN\, 55439\, United States
CATEGORIES:Community
ATTACH;FMTTYPE=image/png:https://transformmn.org/wp-content/uploads/2024/10/AM-Multicultural-Worship-Night.png
END:VEVENT
END:VCALENDAR